BEGIN:VCALENDAR
VERSION:2.0
PRODID:-//BCDCOG - ECPv6.15.20//NONSGML v1.0//EN
CALSCALE:GREGORIAN
METHOD:PUBLISH
X-WR-CALNAME:BCDCOG
X-ORIGINAL-URL:https://bcdcog.com
X-WR-CALDESC:Events for BCDCOG
REFRESH-INTERVAL;VALUE=DURATION:PT1H
X-Robots-Tag:noindex
X-PUBLISHED-TTL:PT1H
BEGIN:VTIMEZONE
TZID:America/New_York
BEGIN:DAYLIGHT
TZOFFSETFROM:-0500
TZOFFSETTO:-0400
TZNAME:EDT
DTSTART:20240310T070000
END:DAYLIGHT
BEGIN:STANDARD
TZOFFSETFROM:-0400
TZOFFSETTO:-0500
TZNAME:EST
DTSTART:20241103T060000
END:STANDARD
BEGIN:DAYLIGHT
TZOFFSETFROM:-0500
TZOFFSETTO:-0400
TZNAME:EDT
DTSTART:20250309T070000
END:DAYLIGHT
BEGIN:STANDARD
TZOFFSETFROM:-0400
TZOFFSETTO:-0500
TZNAME:EST
DTSTART:20251102T060000
END:STANDARD
BEGIN:DAYLIGHT
TZOFFSETFROM:-0500
TZOFFSETTO:-0400
TZNAME:EDT
DTSTART:20260308T070000
END:DAYLIGHT
BEGIN:STANDARD
TZOFFSETFROM:-0400
TZOFFSETTO:-0500
TZNAME:EST
DTSTART:20261101T060000
END:STANDARD
END:VTIMEZONE
BEGIN:VEVENT
DTSTART;TZID=America/New_York:20251104T100000
DTEND;TZID=America/New_York:20251104T110000
DTSTAMP:20260422T123312
CREATED:20251030T145412Z
LAST-MODIFIED:20251110T202629Z
UID:21657-1762250400-1762254000@bcdcog.com
SUMMARY:Trident Workforce Board of Directors Meeting
DESCRIPTION:TWDB Agenda Packet 11 4 2025
URL:https://bcdcog.com/event/trident-workforce-board-of-directors-meeting-2/
LOCATION:BCDCOG Office – Barrett Lawrimore Conference Room\, 5790 Casper Padgett Way\, North Charleston\, SC\, 29406\, United States
END:VEVENT
BEGIN:VEVENT
DTSTART;TZID=America/New_York:20251117T110000
DTEND;TZID=America/New_York:20251117T120000
DTSTAMP:20260422T123312
CREATED:20251030T145503Z
LAST-MODIFIED:20251110T202838Z
UID:21658-1763377200-1763380800@bcdcog.com
SUMMARY:BCDCOG Board of Directors Meeting
DESCRIPTION:BCDCOG BOD Agenda Packet 11 17 2025
URL:https://bcdcog.com/event/bcdcog-board-of-directors-meeting-13/
LOCATION:BCDCOG Office – Barrett Lawrimore Conference Room\, 5790 Casper Padgett Way\, North Charleston\, SC\, 29406\, United States
END:VEVENT
BEGIN:VEVENT
DTSTART;TZID=America/New_York:20251117T153000
DTEND;TZID=America/New_York:20251117T183000
DTSTAMP:20260422T123312
CREATED:20251112T204954Z
LAST-MODIFIED:20251112T204954Z
UID:21673-1763393400-1763404200@bcdcog.com
SUMMARY:TriCounty Link Transit Study: Charleston County Open House
DESCRIPTION:For more information go here: \nCharleston County Open House
URL:https://bcdcog.com/event/tricounty-link-transit-study-charleston-county-open-house/
LOCATION:John’s Island Library\, 3531 Maybank Highway\, Johns Island\, SC\, 29455
END:VEVENT
BEGIN:VEVENT
DTSTART;TZID=America/New_York:20251118T153000
DTEND;TZID=America/New_York:20251118T180000
DTSTAMP:20260422T123312
CREATED:20251112T205619Z
LAST-MODIFIED:20251112T205619Z
UID:21675-1763479800-1763488800@bcdcog.com
SUMMARY:TriCounty Link Study: Berkeley County Open House
DESCRIPTION:For more information click here: \nBerkeley County Open House
URL:https://bcdcog.com/event/tricounty-link-study-berkeley-county-open-house/
LOCATION:St. Stephen American Legion Hut 18\, 180 Ravenell Drive\, St. Stephen\, SC\, 29487
END:VEVENT
BEGIN:VEVENT
DTSTART;TZID=America/New_York:20251119T130000
DTEND;TZID=America/New_York:20251119T140000
DTSTAMP:20260422T123312
CREATED:20251030T145631Z
LAST-MODIFIED:20251119T165959Z
UID:21659-1763557200-1763560800@bcdcog.com
SUMMARY:CARTA Board of Directors Meeting
DESCRIPTION:CARTA Board of Directors-REVISED-Agenda Packet 11 19 2025
URL:https://bcdcog.com/event/carta-board-of-directors-meeting-11/
LOCATION:BCDCOG Office – Barrett Lawrimore Conference Room\, 5790 Casper Padgett Way\, North Charleston\, SC\, 29406\, United States
END:VEVENT
BEGIN:VEVENT
DTSTART;TZID=America/New_York:20251119T153000
DTEND;TZID=America/New_York:20251119T183000
DTSTAMP:20260422T123312
CREATED:20251112T205915Z
LAST-MODIFIED:20251112T205915Z
UID:21677-1763566200-1763577000@bcdcog.com
SUMMARY:TriCounty Link Study: Dorchester County Open House
DESCRIPTION:For more information click here: \nDorchester County Open House
URL:https://bcdcog.com/event/tricounty-link-study-dorchester-county-open-house/
LOCATION:Doty Park Depot\, 320 North Laurel Street\, Summerville\, SC\, 29483
END:VEVENT
BEGIN:VEVENT
DTSTART;TZID=America/New_York:20251120T173000
DTEND;TZID=America/New_York:20251120T180000
DTSTAMP:20260422T123312
CREATED:20251030T145729Z
LAST-MODIFIED:20251030T145729Z
UID:21660-1763659800-1763661600@bcdcog.com
SUMMARY:CARTA-ParaTransit Riders Advisory Committee Meeting
DESCRIPTION:
URL:https://bcdcog.com/event/carta-paratransit-riders-advisory-committee-meeting-2/
LOCATION:BCDCOG Office – Barrett Lawrimore Conference Room\, 5790 Casper Padgett Way\, North Charleston\, SC\, 29406\, United States
END:VEVENT
BEGIN:VEVENT
DTSTART;TZID=America/New_York:20251120T180000
DTEND;TZID=America/New_York:20251120T183000
DTSTAMP:20260422T123312
CREATED:20251030T145823Z
LAST-MODIFIED:20251030T145823Z
UID:21661-1763661600-1763663400@bcdcog.com
SUMMARY:CARTA-Transit Riders Advisory Committee Meeting
DESCRIPTION:
URL:https://bcdcog.com/event/carta-transit-riders-advisory-committee-meeting-2/
LOCATION:BCDCOG Office – Barrett Lawrimore Conference Room\, 5790 Casper Padgett Way\, North Charleston\, SC\, 29406\, United States
END:VEVENT
END:VCALENDAR