BEGIN:VCALENDAR
VERSION:2.0
PRODID:-//BCDCOG - ECPv6.15.20//NONSGML v1.0//EN
CALSCALE:GREGORIAN
METHOD:PUBLISH
X-ORIGINAL-URL:https://bcdcog.com
X-WR-CALDESC:Events for BCDCOG
REFRESH-INTERVAL;VALUE=DURATION:PT1H
X-Robots-Tag:noindex
X-PUBLISHED-TTL:PT1H
BEGIN:VTIMEZONE
TZID:America/New_York
BEGIN:DAYLIGHT
TZOFFSETFROM:-0500
TZOFFSETTO:-0400
TZNAME:EDT
DTSTART:20230312T070000
END:DAYLIGHT
BEGIN:STANDARD
TZOFFSETFROM:-0400
TZOFFSETTO:-0500
TZNAME:EST
DTSTART:20231105T060000
END:STANDARD
BEGIN:DAYLIGHT
TZOFFSETFROM:-0500
TZOFFSETTO:-0400
TZNAME:EDT
DTSTART:20240310T070000
END:DAYLIGHT
BEGIN:STANDARD
TZOFFSETFROM:-0400
TZOFFSETTO:-0500
TZNAME:EST
DTSTART:20241103T060000
END:STANDARD
BEGIN:DAYLIGHT
TZOFFSETFROM:-0500
TZOFFSETTO:-0400
TZNAME:EDT
DTSTART:20250309T070000
END:DAYLIGHT
BEGIN:STANDARD
TZOFFSETFROM:-0400
TZOFFSETTO:-0500
TZNAME:EST
DTSTART:20251102T060000
END:STANDARD
END:VTIMEZONE
BEGIN:VEVENT
DTSTART;TZID=America/New_York:20241203T100000
DTEND;TZID=America/New_York:20241203T110000
DTSTAMP:20260419T151628
CREATED:20241121T190739Z
LAST-MODIFIED:20241127T155306Z
UID:21125-1733220000-1733223600@bcdcog.com
SUMMARY:Trident Workforce Development Board (TWDB) Board of Directors Meeting
DESCRIPTION:TWDB Agenda Packet 12 3 2024
URL:https://bcdcog.com/event/trident-workforce-development-board-twdb-board-of-directors-meeting-6/
LOCATION:BCDCOG Office – Barrett Lawrimore Conference Room\, 5790 Casper Padgett Way\, North Charleston\, SC\, 29406\, United States
END:VEVENT
BEGIN:VEVENT
DTSTART;TZID=America/New_York:20241210T173000
DTEND;TZID=America/New_York:20241210T193000
DTSTAMP:20260419T151628
CREATED:20241210T164947Z
LAST-MODIFIED:20241210T165435Z
UID:21166-1733851800-1733859000@bcdcog.com
SUMMARY:2045 RLRTP Open House: Ravenel
DESCRIPTION:Rural Transportation Planning
URL:https://bcdcog.com/event/2045-rlrtp-open-house/
LOCATION:Ravenel Community Hall\, 5700 Conners Street\, Ravenel\, SC\, 29470\, United States
END:VEVENT
BEGIN:VEVENT
DTSTART;TZID=America/New_York:20241212T173000
DTEND;TZID=America/New_York:20241212T193000
DTSTAMP:20260419T151628
CREATED:20241210T165636Z
LAST-MODIFIED:20241210T165636Z
UID:21169-1734024600-1734031800@bcdcog.com
SUMMARY:2045 RLRTP Open House: St. George
DESCRIPTION:Rural Transportation Planning
URL:https://bcdcog.com/event/2045-rlrtp-open-house-st-george/
LOCATION:Dorchester County Library\, 506 N. Parler Avenue\, St. George\, sc\, 29477
END:VEVENT
BEGIN:VEVENT
DTSTART;TZID=America/New_York:20241217T173000
DTEND;TZID=America/New_York:20241217T193000
DTSTAMP:20260419T151628
CREATED:20241210T165805Z
LAST-MODIFIED:20241210T165805Z
UID:21170-1734456600-1734463800@bcdcog.com
SUMMARY:2045 RLRTP Open House: Awendaw
DESCRIPTION:Rural Transportation Planning
URL:https://bcdcog.com/event/2045-rlrtp-open-house-awendaw/
LOCATION:Awendaw Town Hall\, 6971 Doar Road\, Awendaw\, SC\, 29429\, United States
END:VEVENT
BEGIN:VEVENT
DTSTART;TZID=America/New_York:20241219T173000
DTEND;TZID=America/New_York:20241219T193000
DTSTAMP:20260419T151628
CREATED:20241210T165944Z
LAST-MODIFIED:20241210T165944Z
UID:21172-1734629400-1734636600@bcdcog.com
SUMMARY:2045 RLRTP Open House: Bonneau
DESCRIPTION:Rural Transportation Planning
URL:https://bcdcog.com/event/2045-rlrtp-open-house-bonneau/
LOCATION:Bonneau Town Hall\, 422 Municipal Lane\, Bonneau\, SC\, 29431\, United States
END:VEVENT
END:VCALENDAR