BEGIN:VCALENDAR
VERSION:2.0
PRODID:-//BCDCOG - ECPv6.15.20//NONSGML v1.0//EN
CALSCALE:GREGORIAN
METHOD:PUBLISH
X-WR-CALNAME:BCDCOG
X-ORIGINAL-URL:https://bcdcog.com
X-WR-CALDESC:Events for BCDCOG
REFRESH-INTERVAL;VALUE=DURATION:PT1H
X-Robots-Tag:noindex
X-PUBLISHED-TTL:PT1H
BEGIN:VTIMEZONE
TZID:America/New_York
BEGIN:DAYLIGHT
TZOFFSETFROM:-0500
TZOFFSETTO:-0400
TZNAME:EDT
DTSTART:20230312T070000
END:DAYLIGHT
BEGIN:STANDARD
TZOFFSETFROM:-0400
TZOFFSETTO:-0500
TZNAME:EST
DTSTART:20231105T060000
END:STANDARD
BEGIN:DAYLIGHT
TZOFFSETFROM:-0500
TZOFFSETTO:-0400
TZNAME:EDT
DTSTART:20240310T070000
END:DAYLIGHT
BEGIN:STANDARD
TZOFFSETFROM:-0400
TZOFFSETTO:-0500
TZNAME:EST
DTSTART:20241103T060000
END:STANDARD
BEGIN:DAYLIGHT
TZOFFSETFROM:-0500
TZOFFSETTO:-0400
TZNAME:EDT
DTSTART:20250309T070000
END:DAYLIGHT
BEGIN:STANDARD
TZOFFSETFROM:-0400
TZOFFSETTO:-0500
TZNAME:EST
DTSTART:20251102T060000
END:STANDARD
END:VTIMEZONE
BEGIN:VEVENT
DTSTART;TZID=America/New_York:20240918T130000
DTEND;TZID=America/New_York:20240918T140000
DTSTAMP:20260421T125050
CREATED:20240903T170847Z
LAST-MODIFIED:20240912T225510Z
UID:20986-1726664400-1726668000@bcdcog.com
SUMMARY:CARTA Board of Directors Meeting
DESCRIPTION:CARTA-Agenda Packet-9.18.2024
URL:https://bcdcog.com/event/carta-board-of-directors-meet/
LOCATION:BCDCOG Office – Barrett Lawrimore Conference Room\, 5790 Casper Padgett Way\, North Charleston\, SC\, 29406\, United States
END:VEVENT
BEGIN:VEVENT
DTSTART;TZID=America/New_York:20240919T100000
DTEND;TZID=America/New_York:20240919T110000
DTSTAMP:20260421T125050
CREATED:20240903T171042Z
LAST-MODIFIED:20240918T213936Z
UID:20990-1726740000-1726743600@bcdcog.com
SUMMARY:CHATS Study Team
DESCRIPTION:Study Team Meeting Agenda Packet 9 19 2024_Rev
URL:https://bcdcog.com/event/chats-study-team-5/
LOCATION:BCDCOG Office – Barrett Lawrimore Conference Room\, 5790 Casper Padgett Way\, North Charleston\, SC\, 29406\, United States
END:VEVENT
BEGIN:VEVENT
DTSTART;TZID=America/New_York:20240924T100000
DTEND;TZID=America/New_York:20240924T110000
DTSTAMP:20260421T125050
CREATED:20240903T170930Z
LAST-MODIFIED:20240917T172706Z
UID:20988-1727172000-1727175600@bcdcog.com
SUMMARY:Trident Workforce Development Board (TWDB) Board of Directors Meeting
DESCRIPTION:TWDB Agenda Packet 9 24 2024
URL:https://bcdcog.com/event/trident-workforce-development-board-twdb-board-of-directors-meeting-5/
LOCATION:BCDCOG Office – Barrett Lawrimore Conference Room\, 5790 Casper Padgett Way\, North Charleston\, SC\, 29406\, United States
END:VEVENT
BEGIN:VEVENT
DTSTART;TZID=America/New_York:20240930T180000
DTEND;TZID=America/New_York:20240930T190000
DTSTAMP:20260421T125050
CREATED:20240912T231614Z
LAST-MODIFIED:20240912T231614Z
UID:21009-1727719200-1727722800@bcdcog.com
SUMMARY:Public Meeting
DESCRIPTION:Proposed Major Amendment to the BCDCOG 208 Water Quality Management Plan
URL:https://bcdcog.com/event/public-meeting/
LOCATION:BCDCOG Office – Barrett Lawrimore Conference Room\, 5790 Casper Padgett Way\, North Charleston\, SC\, 29406\, United States
END:VEVENT
END:VCALENDAR