BEGIN:VCALENDAR
VERSION:2.0
PRODID:-//BCDCOG - ECPv6.15.20//NONSGML v1.0//EN
CALSCALE:GREGORIAN
METHOD:PUBLISH
X-WR-CALNAME:BCDCOG
X-ORIGINAL-URL:https://bcdcog.com
X-WR-CALDESC:Events for BCDCOG
REFRESH-INTERVAL;VALUE=DURATION:PT1H
X-Robots-Tag:noindex
X-PUBLISHED-TTL:PT1H
BEGIN:VTIMEZONE
TZID:America/New_York
BEGIN:DAYLIGHT
TZOFFSETFROM:-0500
TZOFFSETTO:-0400
TZNAME:EDT
DTSTART:20220313T070000
END:DAYLIGHT
BEGIN:STANDARD
TZOFFSETFROM:-0400
TZOFFSETTO:-0500
TZNAME:EST
DTSTART:20221106T060000
END:STANDARD
BEGIN:DAYLIGHT
TZOFFSETFROM:-0500
TZOFFSETTO:-0400
TZNAME:EDT
DTSTART:20230312T070000
END:DAYLIGHT
BEGIN:STANDARD
TZOFFSETFROM:-0400
TZOFFSETTO:-0500
TZNAME:EST
DTSTART:20231105T060000
END:STANDARD
BEGIN:DAYLIGHT
TZOFFSETFROM:-0500
TZOFFSETTO:-0400
TZNAME:EDT
DTSTART:20240310T070000
END:DAYLIGHT
BEGIN:STANDARD
TZOFFSETFROM:-0400
TZOFFSETTO:-0500
TZNAME:EST
DTSTART:20241103T060000
END:STANDARD
END:VTIMEZONE
BEGIN:VEVENT
DTSTART;TZID=America/New_York:20230807T100000
DTEND;TZID=America/New_York:20230807T110000
DTSTAMP:20260422T115942
CREATED:20230705T160036Z
LAST-MODIFIED:20230725T175511Z
UID:19969-1691402400-1691406000@bcdcog.com
SUMMARY:Technical Advisory Committee Meeting
DESCRIPTION:
URL:https://bcdcog.com/event/technical-advisory-committee-meeting/
LOCATION:BCDCOG Office – Barrett Lawrimore Conference Room\, 5790 Casper Padgett Way\, North Charleston\, SC\, 29406\, United States
END:VEVENT
BEGIN:VEVENT
DTSTART;TZID=America/New_York:20230816T130000
DTEND;TZID=America/New_York:20230816T140000
DTSTAMP:20260422T115942
CREATED:20230725T203149Z
LAST-MODIFIED:20230810T144314Z
UID:20003-1692190800-1692194400@bcdcog.com
SUMMARY:CARTA Board of Directors Meeting
DESCRIPTION:CARTA Board of Directors Agenda Packet 8 16 2023
URL:https://bcdcog.com/event/carta-board-of-directors-mtg/
LOCATION:BCDCOG Office – Barrett Lawrimore Conference Room\, 5790 Casper Padgett Way\, North Charleston\, SC\, 29406\, United States
CATEGORIES:CARTA
END:VEVENT
BEGIN:VEVENT
DTSTART;TZID=America/New_York:20230828T110000
DTEND;TZID=America/New_York:20230828T120000
DTSTAMP:20260422T115942
CREATED:20230725T203303Z
LAST-MODIFIED:20230821T183014Z
UID:20005-1693220400-1693224000@bcdcog.com
SUMMARY:BCDCOG Board of Directors Meeting
DESCRIPTION:BCDCOG Board of Directors Agenda Packet 8 28 2023
URL:https://bcdcog.com/event/bcdcog-board-of-directors-meeting-2/
LOCATION:BCDCOG Office – Barrett Lawrimore Conference Room\, 5790 Casper Padgett Way\, North Charleston\, SC\, 29406\, United States
END:VEVENT
BEGIN:VEVENT
DTSTART;TZID=America/New_York:20230829T100000
DTEND;TZID=America/New_York:20230829T110000
DTSTAMP:20260422T115942
CREATED:20230808T171841Z
LAST-MODIFIED:20230815T151513Z
UID:20019-1693303200-1693306800@bcdcog.com
SUMMARY:TWDB–Youth Advisory Council (YAC) Meeting
DESCRIPTION:Virtual and In-Person: \nJoin Zoom Meeting\nhttps://us02web.zoom.us/j/84170838975\nMeeting ID: 841 7083 8975\nPasscode: 985518\nCall in:  312-626-6799 or 646-931-3860
URL:https://bcdcog.com/event/twdb-youth-advisory-council-yac-meeting-2/
LOCATION:BCDCOG Office – Barrett Lawrimore Conference Room\, 5790 Casper Padgett Way\, North Charleston\, SC\, 29406\, United States
END:VEVENT
END:VCALENDAR