BEGIN:VCALENDAR
VERSION:2.0
PRODID:-//BCDCOG - ECPv6.15.20//NONSGML v1.0//EN
CALSCALE:GREGORIAN
METHOD:PUBLISH
X-ORIGINAL-URL:https://bcdcog.com
X-WR-CALDESC:Events for BCDCOG
REFRESH-INTERVAL;VALUE=DURATION:PT1H
X-Robots-Tag:noindex
X-PUBLISHED-TTL:PT1H
BEGIN:VTIMEZONE
TZID:America/New_York
BEGIN:DAYLIGHT
TZOFFSETFROM:-0500
TZOFFSETTO:-0400
TZNAME:EDT
DTSTART:20220313T070000
END:DAYLIGHT
BEGIN:STANDARD
TZOFFSETFROM:-0400
TZOFFSETTO:-0500
TZNAME:EST
DTSTART:20221106T060000
END:STANDARD
BEGIN:DAYLIGHT
TZOFFSETFROM:-0500
TZOFFSETTO:-0400
TZNAME:EDT
DTSTART:20230312T070000
END:DAYLIGHT
BEGIN:STANDARD
TZOFFSETFROM:-0400
TZOFFSETTO:-0500
TZNAME:EST
DTSTART:20231105T060000
END:STANDARD
BEGIN:DAYLIGHT
TZOFFSETFROM:-0500
TZOFFSETTO:-0400
TZNAME:EDT
DTSTART:20240310T070000
END:DAYLIGHT
BEGIN:STANDARD
TZOFFSETFROM:-0400
TZOFFSETTO:-0500
TZNAME:EST
DTSTART:20241103T060000
END:STANDARD
END:VTIMEZONE
BEGIN:VEVENT
DTSTART;TZID=America/New_York:20230517T130000
DTEND;TZID=America/New_York:20230517T140000
DTSTAMP:20260422T123649
CREATED:20230509T155241Z
LAST-MODIFIED:20230517T152550Z
UID:19697-1684328400-1684332000@bcdcog.com
SUMMARY:CARTA Board of Directors Meetings
DESCRIPTION:CARTA Board of Directors Agenda Packet 5 17 2023
URL:https://bcdcog.com/event/carta-board-of-directors-meetings/
LOCATION:BCDCOG Office – Barrett Lawrimore Conference Room\, 5790 Casper Padgett Way\, North Charleston\, SC\, 29406\, United States
CATEGORIES:Board of Directors
END:VEVENT
END:VCALENDAR