BEGIN:VCALENDAR
VERSION:2.0
PRODID:-//BCDCOG - ECPv6.15.20//NONSGML v1.0//EN
CALSCALE:GREGORIAN
METHOD:PUBLISH
X-WR-CALNAME:BCDCOG
X-ORIGINAL-URL:https://bcdcog.com
X-WR-CALDESC:Events for BCDCOG
REFRESH-INTERVAL;VALUE=DURATION:PT1H
X-Robots-Tag:noindex
X-PUBLISHED-TTL:PT1H
BEGIN:VTIMEZONE
TZID:America/New_York
BEGIN:DAYLIGHT
TZOFFSETFROM:-0500
TZOFFSETTO:-0400
TZNAME:EDT
DTSTART:20250309T070000
END:DAYLIGHT
BEGIN:STANDARD
TZOFFSETFROM:-0400
TZOFFSETTO:-0500
TZNAME:EST
DTSTART:20251102T060000
END:STANDARD
BEGIN:DAYLIGHT
TZOFFSETFROM:-0500
TZOFFSETTO:-0400
TZNAME:EDT
DTSTART:20260308T070000
END:DAYLIGHT
BEGIN:STANDARD
TZOFFSETFROM:-0400
TZOFFSETTO:-0500
TZNAME:EST
DTSTART:20261101T060000
END:STANDARD
BEGIN:DAYLIGHT
TZOFFSETFROM:-0500
TZOFFSETTO:-0400
TZNAME:EDT
DTSTART:20270314T070000
END:DAYLIGHT
BEGIN:STANDARD
TZOFFSETFROM:-0400
TZOFFSETTO:-0500
TZNAME:EST
DTSTART:20271107T060000
END:STANDARD
END:VTIMEZONE
BEGIN:VEVENT
DTSTART;TZID=America/New_York:20260416T100000
DTEND;TZID=America/New_York:20260416T110000
DTSTAMP:20260422T062922
CREATED:20260224T215512Z
LAST-MODIFIED:20260415T195550Z
UID:21748-1776333600-1776337200@bcdcog.com
SUMMARY:CANCELLED - CHATS Study Team Meeting
DESCRIPTION:Meeting has been cancelled
URL:https://bcdcog.com/event/chats-study-team-meeting-3/2026-04-16/
LOCATION:BCDCOG Office – Barrett Lawrimore Conference Room\, 5790 Casper Padgett Way\, North Charleston\, SC\, 29406\, United States
END:VEVENT
END:VCALENDAR